BEGIN:VCALENDAR
VERSION:2.0
PRODID:-//Squarespace Inc/Squarespace 6//v6//EN
BEGIN:VEVENT
UID:5d3f56c6bd97e00001979d41@squarespace.com
DTSTAMP:20190729T202801Z
DTSTART:20190802T010000Z
DTEND:20190802T020000Z
SUMMARY:Westmere Kindergarten
END:VEVENT
END:VCALENDAR
