BEGIN:VCALENDAR
VERSION:2.0
PRODID:-//Squarespace Inc/Squarespace 6//v6//EN
BEGIN:VEVENT
UID:5d3f56815864ba000147b102@squarespace.com
DTSTAMP:20190729T202646Z
DTSTART:20190912T230000Z
DTEND:20190913T000000Z
SUMMARY:Sunbeams Private Kindergarten
END:VEVENT
END:VCALENDAR
