BEGIN:VCALENDAR
VERSION:2.0
PRODID:-//Squarespace Inc/Squarespace 6//v6//EN
BEGIN:VEVENT
UID:5d3e6d365339530001bdae1a@squarespace.com
DTSTAMP:20190729T035120Z
DTSTART:20190923T230000Z
DTEND:20190924T000000Z
SUMMARY:Lollipops Britomart
END:VEVENT
END:VCALENDAR
