BEGIN:VCALENDAR
VERSION:2.0
PRODID:-//Squarespace Inc/Squarespace 6//v6//EN
BEGIN:VEVENT
UID:5d3f551243b0be00017f974b@squarespace.com
DTSTAMP:20190729T202254Z
DTSTART:20190801T004500Z
DTEND:20190801T014500Z
SUMMARY:Blockhouse Bay Baptist Church Kindy
END:VEVENT
END:VCALENDAR
