BEGIN:VCALENDAR
VERSION:2.0
PRODID:-//Squarespace Inc/Squarespace 6//v6//EN
BEGIN:VEVENT
UID:5d3e6d289b519f00016606b6@squarespace.com
DTSTAMP:20190729T035108Z
DTSTART:20190916T230000Z
DTEND:20190917T000000Z
SUMMARY:Lollipops Britomart
END:VEVENT
END:VCALENDAR
